BEGIN:VCALENDAR
VERSION:2.0
PRODID:-//Plone.org//NONSGML plone.app.event//EN
X-WR-TIMEZONE:Europe/Madrid
BEGIN:VEVENT
SUMMARY:Sessió Junta ESAB
DTSTART;TZID=Europe/Madrid:20171025T113000
DTEND;TZID=Europe/Madrid:20171025T130000
DTSTAMP:20260421T003422Z
UID:dfc877a5ae5b499cb7190bbd3c4b6297@esab.upc.edu
CREATED:20170926T124300Z
LAST-MODIFIED:20170926T124307Z
LOCATION:Sala Graus ESAB
URL:https://eeabb.upc.edu/ca/esdeveniments/set-octubre-17/sessio-junta-esa
 b
END:VEVENT
BEGIN:VTIMEZONE
TZID:Europe/Madrid
X-LIC-LOCATION:Europe/Madrid
BEGIN:DAYLIGHT
DTSTART:20170326T030000
TZNAME:CEST
TZOFFSETFROM:+0100
TZOFFSETTO:+0200
END:DAYLIGHT
END:VTIMEZONE
END:VCALENDAR
