BEGIN:VCALENDAR
VERSION:2.0
PRODID:-//Plone.org//NONSGML plone.app.event//EN
X-WR-TIMEZONE:Europe/Madrid
BEGIN:VEVENT
SUMMARY:Dies festius
DTSTART;VALUE=DATE:20171206
DTEND;VALUE=DATE:20171209
DTSTAMP:20260421T003423Z
UID:dbc06b9f86424dfeb66ce92c1fa930a6@esab.upc.edu
CREATED:20171124T165743Z
LAST-MODIFIED:20171124T165748Z
URL:https://eeabb.upc.edu/ca/esdeveniments/set-octubre-17/dies-festius
END:VEVENT
END:VCALENDAR
