BEGIN:VCALENDAR
VERSION:2.0
PRODID:-//Plone.org//NONSGML plone.app.event//EN
X-WR-TIMEZONE:Europe/Madrid
BEGIN:VEVENT
SUMMARY:Període no lectiu
DTSTART;VALUE=DATE:20191223
DTEND;VALUE=DATE:20200104
DTSTAMP:20260420T220449Z
UID:ae253a22e7844c5abf419fb2caa4520a@esab.upc.edu
CREATED:20191127T103144Z
LAST-MODIFIED:20191127T103151Z
URL:https://eeabb.upc.edu/ca/esdeveniments/octubre-gener-20-1/periode-no-l
 ectiu
END:VEVENT
END:VCALENDAR
