BEGIN:VCALENDAR
VERSION:2.0
PRODID:-//Plone.org//NONSGML plone.app.event//EN
X-WR-TIMEZONE:Europe/Madrid
BEGIN:VEVENT
SUMMARY:Sessió Comissió Permanent
DTSTART;TZID=Europe/Madrid:20181114T113000
DTSTAMP:20260420T192639Z
UID:ee3e4b7046ab4fc5a2cb613d328f31ea@esab.upc.edu
CREATED:20181107T100145Z
LAST-MODIFIED:20181107T100222Z
LOCATION:Sala 120
URL:https://eeabb.upc.edu/ca/esdeveniments/octubre-gener-19/sessio-comissi
 o-permanent
END:VEVENT
BEGIN:VTIMEZONE
TZID:Europe/Madrid
X-LIC-LOCATION:Europe/Madrid
BEGIN:STANDARD
DTSTART:20181028T020000
TZNAME:CET
TZOFFSETFROM:+0200
TZOFFSETTO:+0100
END:STANDARD
END:VTIMEZONE
END:VCALENDAR
