BEGIN:VCALENDAR
VERSION:2.0
PRODID:-//Plone.org//NONSGML plone.app.event//EN
X-WR-TIMEZONE:Europe/Madrid
BEGIN:VEVENT
SUMMARY:Edifici ESAB tancat
DTSTART;VALUE=DATE:20181222
DTEND;VALUE=DATE:20190107
DTSTAMP:20260420T223237Z
UID:1cd1d0ca6061412bad186a1c6cae7aaf@esab.upc.edu
CREATED:20181213T163811Z
LAST-MODIFIED:20181213T163929Z
URL:https://eeabb.upc.edu/ca/esdeveniments/octubre-gener-19/edifici-esab-t
 ancat
END:VEVENT
END:VCALENDAR
