BEGIN:VCALENDAR
VERSION:2.0
PRODID:-//Plone.org//NONSGML plone.app.event//EN
X-WR-TIMEZONE:Europe/Madrid
BEGIN:VEVENT
SUMMARY:Dia Festiu. No lectiu
DTSTART;VALUE=DATE:20181207
DTEND;VALUE=DATE:20181208
DTSTAMP:20260421T002317Z
UID:bb86e8d446864bf298adf846db451c79@esab.upc.edu
CREATED:20181122T133251Z
LAST-MODIFIED:20181122T133416Z
URL:https://eeabb.upc.edu/ca/esdeveniments/octubre-gener-19/dia-no-lectiu
END:VEVENT
END:VCALENDAR
