BEGIN:VCALENDAR
VERSION:2.0
PRODID:-//Plone.org//NONSGML plone.app.event//EN
X-WR-TIMEZONE:Europe/Madrid
BEGIN:VEVENT
SUMMARY:Acte Graduació 2018
DTSTART;TZID=Europe/Madrid:20181130T183000
DTSTAMP:20260420T232853Z
UID:e64487a1b016479093806c843f6d998c@esab.upc.edu
CREATED:20181003T090503Z
LAST-MODIFIED:20181120T130931Z
LOCATION:Sala Polivalent ESAB
URL:https://eeabb.upc.edu/ca/esdeveniments/octubre-gener-19/acte-graduacio
 -2018
END:VEVENT
BEGIN:VTIMEZONE
TZID:Europe/Madrid
X-LIC-LOCATION:Europe/Madrid
BEGIN:STANDARD
DTSTART:20181028T020000
TZNAME:CET
TZOFFSETFROM:+0200
TZOFFSETTO:+0100
END:STANDARD
END:VTIMEZONE
END:VCALENDAR
