BEGIN:VCALENDAR
VERSION:2.0
PRODID:-//Plone.org//NONSGML plone.app.event//EN
X-WR-TIMEZONE:Europe/Madrid
BEGIN:VEVENT
SUMMARY:Període no lectiu
DTSTART;VALUE=DATE:20201223
DTEND;VALUE=DATE:20210108
DTSTAMP:20260420T192621Z
UID:276028dd977f4a08bb6a086bb2cae592@eeabb.upc.edu
CREATED:20201202T123838Z
LAST-MODIFIED:20201202T123843Z
URL:https://eeabb.upc.edu/ca/esdeveniments/octubre-febrer-2021/periode-no-
 lectiu
END:VEVENT
END:VCALENDAR
