BEGIN:VCALENDAR
VERSION:2.0
PRODID:-//Plone.org//NONSGML plone.app.event//EN
X-WR-TIMEZONE:Europe/Madrid
BEGIN:VEVENT
SUMMARY:Reunió Comissió Permanent
DTSTART;TZID=Europe/Madrid:20161130T113000
DTEND;TZID=Europe/Madrid:20161130T130000
DTSTAMP:20260420T192638Z
UID:ebd38886b6184e29a24500a491d5cbd7@esab.upc.edu
CREATED:20161122T171049Z
LAST-MODIFIED:20161122T171059Z
LOCATION:Sala 120 ESAB
URL:https://eeabb.upc.edu/ca/esdeveniments/octubre-2016/reunio-comissio-pe
 rmanent
END:VEVENT
BEGIN:VTIMEZONE
TZID:Europe/Madrid
X-LIC-LOCATION:Europe/Madrid
BEGIN:STANDARD
DTSTART:20161030T020000
TZNAME:CET
TZOFFSETFROM:+0200
TZOFFSETTO:+0100
END:STANDARD
END:VTIMEZONE
END:VCALENDAR
