BEGIN:VCALENDAR
VERSION:2.0
PRODID:-//Plone.org//NONSGML plone.app.event//EN
X-WR-TIMEZONE:Europe/Madrid
BEGIN:VEVENT
SUMMARY:Sessió informativa virtual Master Ket
DTSTART;TZID=Europe/Madrid:20210617T170000
DTEND;TZID=Europe/Madrid:20210617T180000
DTSTAMP:20260420T192621Z
UID:a9c20e189c0b448682d1c6baa351c055@eeabb.upc.edu
CREATED:20210526T113321Z
LAST-MODIFIED:20210526T113328Z
LOCATION:Virtual
URL:https://eeabb.upc.edu/ca/esdeveniments/marc-juliol-2021/sessio-informa
 tiva-virtual-master-ket
END:VEVENT
BEGIN:VTIMEZONE
TZID:Europe/Madrid
X-LIC-LOCATION:Europe/Madrid
BEGIN:DAYLIGHT
DTSTART:20210328T030000
TZNAME:CEST
TZOFFSETFROM:+0100
TZOFFSETTO:+0200
END:DAYLIGHT
END:VTIMEZONE
END:VCALENDAR
