BEGIN:VCALENDAR
VERSION:2.0
PRODID:-//Plone.org//NONSGML plone.app.event//EN
X-WR-TIMEZONE:Europe/Madrid
BEGIN:VEVENT
SUMMARY:Presentació del CannabisHubUPC.
DTSTART;TZID=Europe/Madrid:20210325T160000
DTEND;TZID=Europe/Madrid:20210325T173000
DTSTAMP:20260420T225846Z
UID:73054249d15c4fbd9b5bc45ea5a38ab0@eeabb.upc.edu
CONTACT:https://www.youtube.com/watch?v=B_4QiwH_fyM
CREATED:20210317T170950Z
LAST-MODIFIED:20210317T170956Z
URL:https://eeabb.upc.edu/ca/esdeveniments/marc-juliol-2021/presentacio-de
 l-cannabishubupc
END:VEVENT
BEGIN:VTIMEZONE
TZID:Europe/Madrid
X-LIC-LOCATION:Europe/Madrid
BEGIN:STANDARD
DTSTART:20201025T020000
TZNAME:CET
TZOFFSETFROM:+0200
TZOFFSETTO:+0100
END:STANDARD
END:VTIMEZONE
END:VCALENDAR
