BEGIN:VCALENDAR
VERSION:2.0
PRODID:-//Plone.org//NONSGML plone.app.event//EN
X-WR-TIMEZONE:Europe/Madrid
BEGIN:VEVENT
SUMMARY:JPO virtual Màster Ket4food+bio
DTSTART;TZID=Europe/Madrid:20210518T120000
DTEND;TZID=Europe/Madrid:20210518T130000
DTSTAMP:20260420T225847Z
UID:2eb74b7328554b6bac5d1c86c3e708ad@eeabb.upc.edu
CREATED:20210416T124259Z
LAST-MODIFIED:20210416T124757Z
LOCATION:https://www.upc.edu/ca/masters/tecnologies-facilitadores-per-a-la
 -industria-alimentaria-i-de-bioprocessos-ket4food-bio
URL:https://eeabb.upc.edu/ca/esdeveniments/marc-juliol-2021/copy2_of_jpo-v
 irtual-graus
END:VEVENT
BEGIN:VTIMEZONE
TZID:Europe/Madrid
X-LIC-LOCATION:Europe/Madrid
BEGIN:DAYLIGHT
DTSTART:20210328T030000
TZNAME:CEST
TZOFFSETFROM:+0100
TZOFFSETTO:+0200
END:DAYLIGHT
END:VTIMEZONE
END:VCALENDAR
