BEGIN:VCALENDAR
VERSION:2.0
PRODID:-//Plone.org//NONSGML plone.app.event//EN
X-WR-TIMEZONE:Europe/Madrid
BEGIN:VEVENT
SUMMARY:Presentació projectes de cooperació de l'ESAB
DTSTART;TZID=Europe/Madrid:20170530T153000
DTEND;TZID=Europe/Madrid:20170530T170000
DTSTAMP:20260421T010207Z
UID:ce20fdafd1544021b75cd63f91a4e0a1@esab.upc.edu
CREATED:20170529T085439Z
LAST-MODIFIED:20170529T085452Z
LOCATION:Aula 14 ESAB
URL:https://eeabb.upc.edu/ca/esdeveniments/maig-juliol-17/presentacio-proj
 ectes-de-cooperacio-de-lesab
END:VEVENT
BEGIN:VTIMEZONE
TZID:Europe/Madrid
X-LIC-LOCATION:Europe/Madrid
BEGIN:DAYLIGHT
DTSTART:20170326T030000
TZNAME:CEST
TZOFFSETFROM:+0100
TZOFFSETTO:+0200
END:DAYLIGHT
END:VTIMEZONE
END:VCALENDAR
