BEGIN:VCALENDAR
VERSION:2.0
PRODID:-//Plone.org//NONSGML plone.app.event//EN
X-WR-TIMEZONE:Europe/Madrid
BEGIN:VEVENT
SUMMARY:Presentació Màster MBLandArch
DTSTART;TZID=Europe/Madrid:20170515T113000
DTEND;TZID=Europe/Madrid:20170515T123000
DTSTAMP:20260420T192640Z
UID:fad1e8b189e44c9595486373fe1fd06d@esab.upc.edu
CREATED:20170512T122112Z
LAST-MODIFIED:20170512T122151Z
LOCATION:Sala Graus ESAB
URL:https://eeabb.upc.edu/ca/esdeveniments/maig-juliol-17/presentacio-mast
 er-mblandarch
END:VEVENT
BEGIN:VTIMEZONE
TZID:Europe/Madrid
X-LIC-LOCATION:Europe/Madrid
BEGIN:DAYLIGHT
DTSTART:20170326T030000
TZNAME:CEST
TZOFFSETFROM:+0100
TZOFFSETTO:+0200
END:DAYLIGHT
END:VTIMEZONE
END:VCALENDAR
