BEGIN:VCALENDAR
VERSION:2.0
PRODID:-//Plone.org//NONSGML plone.app.event//EN
X-WR-TIMEZONE:Europe/Madrid
BEGIN:VEVENT
SUMMARY:Edifici ESAB tancat
DTSTART;VALUE=DATE:20170731
DTEND;VALUE=DATE:20170821
DTSTAMP:20260420T223242Z
UID:4d6d05ccda9e4b49a405c69b597c41a5@esab.upc.edu
CREATED:20170714T155538Z
LAST-MODIFIED:20170720T094444Z
URL:https://eeabb.upc.edu/ca/esdeveniments/maig-juliol-17/edifici-esab-tan
 cat
END:VEVENT
END:VCALENDAR
