BEGIN:VCALENDAR
VERSION:2.0
PRODID:-//Plone.org//NONSGML plone.app.event//EN
X-WR-TIMEZONE:Europe/Madrid
BEGIN:VEVENT
SUMMARY:Sessio Comissió Permanent ESAB
DTSTART;VALUE=DATE:20180710
DTEND;VALUE=DATE:20180711
DTSTAMP:20260420T225847Z
UID:d1cbd4d4802e42b3a7e43d613526a33a@esab.upc.edu
CREATED:20180613T140618Z
LAST-MODIFIED:20180613T140628Z
URL:https://eeabb.upc.edu/ca/esdeveniments/juny-setembre-18/sessio-comissi
 o-permanent-esab
END:VEVENT
END:VCALENDAR
