BEGIN:VCALENDAR
VERSION:2.0
PRODID:-//Plone.org//NONSGML plone.app.event//EN
X-WR-TIMEZONE:Europe/Madrid
BEGIN:VEVENT
SUMMARY:Sessió Comissió d'Avaluació Curricular graus
DTSTART;TZID=Europe/Madrid:20180711T090000
DTEND;TZID=Europe/Madrid:20180711T130000
DTSTAMP:20260420T212746Z
UID:20b410dc050445c487324adc5ddc288f@esab.upc.edu
CREATED:20180606T122038Z
LAST-MODIFIED:20180606T122043Z
LOCATION:Sala 120 ESAB
URL:https://eeabb.upc.edu/ca/esdeveniments/juny-setembre-18/sessio-comissi
 o-davaluacio-curricular-graus
END:VEVENT
BEGIN:VTIMEZONE
TZID:Europe/Madrid
X-LIC-LOCATION:Europe/Madrid
BEGIN:DAYLIGHT
DTSTART:20180325T030000
TZNAME:CEST
TZOFFSETFROM:+0100
TZOFFSETTO:+0200
END:DAYLIGHT
END:VTIMEZONE
END:VCALENDAR
