BEGIN:VCALENDAR
VERSION:2.0
PRODID:-//Plone.org//NONSGML plone.app.event//EN
X-WR-TIMEZONE:Europe/Madrid
BEGIN:VEVENT
SUMMARY:Presentació Beques Balsells mobilitat
DTSTART;TZID=Europe/Madrid:20180927T100000
DTEND;TZID=Europe/Madrid:20180927T110000
DTSTAMP:20260421T022223Z
UID:088376ed076e4fad908f8633b52d51a5@esab.upc.edu
CREATED:20180912T113522Z
LAST-MODIFIED:20180912T113649Z
LOCATION:Sala de Graus ESAB
URL:https://eeabb.upc.edu/ca/esdeveniments/juny-setembre-18/presentacio-be
 ques-balsells-mobilitat
END:VEVENT
BEGIN:VTIMEZONE
TZID:Europe/Madrid
X-LIC-LOCATION:Europe/Madrid
BEGIN:DAYLIGHT
DTSTART:20180325T030000
TZNAME:CEST
TZOFFSETFROM:+0100
TZOFFSETTO:+0200
END:DAYLIGHT
END:VTIMEZONE
END:VCALENDAR
