BEGIN:VCALENDAR
VERSION:2.0
PRODID:-//Plone.org//NONSGML plone.app.event//EN
X-WR-TIMEZONE:Europe/Madrid
BEGIN:VEVENT
SUMMARY:Període exàmens reavaluació Q2
DTSTART;VALUE=DATE:20180625
DTEND;VALUE=DATE:20180630
DTSTAMP:20260421T010057Z
UID:437a693c262245faab9003059b21eae2@esab.upc.edu
CREATED:20180511T151417Z
LAST-MODIFIED:20180511T151540Z
URL:https://eeabb.upc.edu/ca/esdeveniments/juny-setembre-18/periode-examen
 s-reavaluacio-q2
END:VEVENT
END:VCALENDAR
