BEGIN:VCALENDAR
VERSION:2.0
PRODID:-//Plone.org//NONSGML plone.app.event//EN
X-WR-TIMEZONE:Europe/Madrid
BEGIN:VEVENT
SUMMARY:Sessió informativa matrícula estudiants nous
DTSTART;TZID=Europe/Madrid:20160722T103000
DTEND;TZID=Europe/Madrid:20160722T120000
DTSTAMP:20260420T232525Z
UID:67c2f028bd1a4575bdc316565be3a1ac@www.esab.upc.edu
CREATED:20160712T163920Z
LAST-MODIFIED:20160712T164815Z
LOCATION:Sala de graus
URL:https://eeabb.upc.edu/ca/esdeveniments/juliol-setembre-2016/sessio-inf
 ormativa-matricula
END:VEVENT
BEGIN:VTIMEZONE
TZID:Europe/Madrid
X-LIC-LOCATION:Europe/Madrid
BEGIN:DAYLIGHT
DTSTART:20160327T030000
TZNAME:CEST
TZOFFSETFROM:+0100
TZOFFSETTO:+0200
END:DAYLIGHT
END:VTIMEZONE
END:VCALENDAR
