BEGIN:VCALENDAR
VERSION:2.0
PRODID:-//Plone.org//NONSGML plone.app.event//EN
X-WR-TIMEZONE:Europe/Madrid
BEGIN:VEVENT
SUMMARY:Inici classes graus
DTSTART;VALUE=DATE:20160912
DTEND;VALUE=DATE:20160913
DTSTAMP:20260421T003421Z
UID:cd6f383991474958839df38197bb24c1@www.esab.upc.edu
CREATED:20160712T171604Z
LAST-MODIFIED:20160712T171610Z
URL:https://eeabb.upc.edu/ca/esdeveniments/juliol-setembre-2016/inici-clas
 ses-graus
END:VEVENT
END:VCALENDAR
