BEGIN:VCALENDAR
VERSION:2.0
PRODID:-//Plone.org//NONSGML plone.app.event//EN
X-WR-TIMEZONE:Europe/Madrid
BEGIN:VEVENT
SUMMARY:Inici classes màster Ket4food
DTSTART;VALUE=DATE:20160927
DTEND;VALUE=DATE:20160928
DTSTAMP:20260421T024305Z
UID:cd6f383991474958839df38197bb24c1@www.esab.upc.edu
CREATED:20160712T171604Z
LAST-MODIFIED:20160712T220131Z
URL:https://eeabb.upc.edu/ca/esdeveniments/juliol-setembre-2016/copy_of_in
 ici-classes-graus
END:VEVENT
END:VCALENDAR
