BEGIN:VCALENDAR
VERSION:2.0
PRODID:-//Plone.org//NONSGML plone.app.event//EN
X-WR-TIMEZONE:Europe/Madrid
BEGIN:VEVENT
SUMMARY:Sessió Comissió Permanent ESAB
DTSTART;TZID=Europe/Madrid:20190712T100000
DTEND;TZID=Europe/Madrid:20190712T130000
DTSTAMP:20260420T231422Z
UID:94baa4986acd44ae9c14d5141efdb648@esab.upc.edu
CREATED:20190606T100615Z
LAST-MODIFIED:20190606T102357Z
LOCATION:Sala Reunions 120
URL:https://eeabb.upc.edu/ca/esdeveniments/julio-setembre-19/sessio-comiss
 io-permanent-1
END:VEVENT
BEGIN:VTIMEZONE
TZID:Europe/Madrid
X-LIC-LOCATION:Europe/Madrid
BEGIN:DAYLIGHT
DTSTART:20190331T030000
TZNAME:CEST
TZOFFSETFROM:+0100
TZOFFSETTO:+0200
END:DAYLIGHT
END:VTIMEZONE
END:VCALENDAR
