BEGIN:VCALENDAR
VERSION:2.0
PRODID:-//Plone.org//NONSGML plone.app.event//EN
X-WR-TIMEZONE:Europe/Madrid
BEGIN:VEVENT
SUMMARY:Sessió Junta ESAB. AJORNADA
DTSTART;VALUE=DATE:20180307
DTEND;VALUE=DATE:20180308
DTSTAMP:20260421T030649Z
UID:86e7f7c9b95644359445fa428da98b0f@esab.upc.edu
CREATED:20180221T102110Z
LAST-MODIFIED:20180306T102903Z
LOCATION:Sala Graus ESAB
URL:https://eeabb.upc.edu/ca/esdeveniments/gener-maig-2018/sessio-junta-es
 ab
END:VEVENT
END:VCALENDAR
