BEGIN:VCALENDAR
VERSION:2.0
PRODID:-//Plone.org//NONSGML plone.app.event//EN
X-WR-TIMEZONE:Europe/Madrid
BEGIN:VEVENT
SUMMARY:Sessió Junta ESAB.
DTSTART;TZID=Europe/Madrid:20180321T113000
DTEND;TZID=Europe/Madrid:20180321T130000
DTSTAMP:20260420T225846Z
UID:56dc94df157d476e92cf2e1dcbae68e6@esab.upc.edu
CREATED:20180306T103005Z
LAST-MODIFIED:20180306T103011Z
LOCATION:Sala de Graus ESAB
URL:https://eeabb.upc.edu/ca/esdeveniments/gener-maig-2018/sessio-junta-es
 ab-1
END:VEVENT
BEGIN:VTIMEZONE
TZID:Europe/Madrid
X-LIC-LOCATION:Europe/Madrid
BEGIN:STANDARD
DTSTART:20171029T020000
TZNAME:CET
TZOFFSETFROM:+0200
TZOFFSETTO:+0100
END:STANDARD
END:VTIMEZONE
END:VCALENDAR
