BEGIN:VCALENDAR
VERSION:2.0
PRODID:-//Plone.org//NONSGML plone.app.event//EN
X-WR-TIMEZONE:Europe/Madrid
BEGIN:VEVENT
SUMMARY:Sessio Comissió Permanent ESAB
DTSTART;TZID=Europe/Madrid:20180129T100000
DTEND;TZID=Europe/Madrid:20180129T120000
DTSTAMP:20260420T225845Z
UID:d0d8855dd627450eb2d9789f0dee0618@esab.upc.edu
CREATED:20180111T154337Z
LAST-MODIFIED:20180118T131741Z
URL:https://eeabb.upc.edu/ca/esdeveniments/gener-maig-2018/sessio-comissio
 -permanent-esab
END:VEVENT
BEGIN:VTIMEZONE
TZID:Europe/Madrid
X-LIC-LOCATION:Europe/Madrid
BEGIN:STANDARD
DTSTART:20171029T020000
TZNAME:CET
TZOFFSETFROM:+0200
TZOFFSETTO:+0100
END:STANDARD
END:VTIMEZONE
END:VCALENDAR
