BEGIN:VCALENDAR
VERSION:2.0
PRODID:-//Plone.org//NONSGML plone.app.event//EN
X-WR-TIMEZONE:Europe/Madrid
BEGIN:VEVENT
SUMMARY:Presentació màsters 2018-2019
DTSTART;TZID=Europe/Madrid:20180426T123000
DTEND;TZID=Europe/Madrid:20180426T133000
DTSTAMP:20260421T022032Z
UID:46fa3f2662824b63a2654073f8c87422@esab.upc.edu
CREATED:20180405T150234Z
LAST-MODIFIED:20180405T150255Z
LOCATION:Sala de Graus ESAB
URL:https://eeabb.upc.edu/ca/esdeveniments/gener-maig-2018/presentacio-mas
 ters-2018-2019
END:VEVENT
BEGIN:VTIMEZONE
TZID:Europe/Madrid
X-LIC-LOCATION:Europe/Madrid
BEGIN:DAYLIGHT
DTSTART:20180325T030000
TZNAME:CEST
TZOFFSETFROM:+0100
TZOFFSETTO:+0200
END:DAYLIGHT
END:VTIMEZONE
END:VCALENDAR
