BEGIN:VCALENDAR
VERSION:2.0
PRODID:-//Plone.org//NONSGML plone.app.event//EN
X-WR-TIMEZONE:Europe/Madrid
BEGIN:VEVENT
SUMMARY:Període exàmens reavaluació Q1
DTSTART;VALUE=DATE:20180205
DTEND;VALUE=DATE:20180210
DTSTAMP:20260420T222303Z
UID:9ced9136e5bc4a53b43a835943bd994b@esab.upc.edu
CREATED:20171215T102009Z
LAST-MODIFIED:20171215T102017Z
URL:https://eeabb.upc.edu/ca/esdeveniments/gener-maig-2018/periode-examens
 -reavaluacio-q1
END:VEVENT
END:VCALENDAR
