BEGIN:VCALENDAR
VERSION:2.0
PRODID:-//Plone.org//NONSGML plone.app.event//EN
X-WR-TIMEZONE:Europe/Madrid
BEGIN:VEVENT
SUMMARY:Jornada Fòrum Bioenginy
DTSTART;TZID=Europe/Madrid:20180425T093000
DTEND;TZID=Europe/Madrid:20180425T170000
DTSTAMP:20260421T012917Z
UID:52b9b1a5a959466083c90475a8e495d6@esab.upc.edu
CREATED:20180222T112028Z
LAST-MODIFIED:20180309T130917Z
LOCATION:ESAB
URL:https://eeabb.upc.edu/ca/esdeveniments/gener-maig-2018/jornada-forum-b
 ioenginy
END:VEVENT
BEGIN:VTIMEZONE
TZID:Europe/Madrid
X-LIC-LOCATION:Europe/Madrid
BEGIN:DAYLIGHT
DTSTART:20180325T030000
TZNAME:CEST
TZOFFSETFROM:+0100
TZOFFSETTO:+0200
END:DAYLIGHT
END:VTIMEZONE
END:VCALENDAR
