BEGIN:VCALENDAR
VERSION:2.0
PRODID:-//Plone.org//NONSGML plone.app.event//EN
X-WR-TIMEZONE:Europe/Madrid
BEGIN:VEVENT
SUMMARY:Sessió Comissió Permanent ESAB
DTSTART;TZID=Europe/Madrid:20200129T113000
DTEND;TZID=Europe/Madrid:20200129T133000
DTSTAMP:20260421T024306Z
UID:1c09eb2762e04bcc82424d7c1e353047@esab.upc.edu
CREATED:20200125T142644Z
LAST-MODIFIED:20200125T142700Z
LOCATION:Sala 120
URL:https://eeabb.upc.edu/ca/esdeveniments/febrer-maig-20/sessio-comissio-
 permanent-esab
END:VEVENT
BEGIN:VTIMEZONE
TZID:Europe/Madrid
X-LIC-LOCATION:Europe/Madrid
BEGIN:STANDARD
DTSTART:20191027T020000
TZNAME:CET
TZOFFSETFROM:+0200
TZOFFSETTO:+0100
END:STANDARD
END:VTIMEZONE
END:VCALENDAR
