BEGIN:VCALENDAR
VERSION:2.0
PRODID:-//Plone.org//NONSGML plone.app.event//EN
X-WR-TIMEZONE:Europe/Madrid
BEGIN:VEVENT
SUMMARY:Sessió Comissió Permanent ESAB
DTSTART;TZID=Europe/Madrid:20200602T110000
DTEND;TZID=Europe/Madrid:20200602T120000
DTSTAMP:20260420T212844Z
UID:c5e835bb8cf448b4b1dec3fd8b3f67d6@esab.upc.edu
CREATED:20200529T101156Z
LAST-MODIFIED:20200529T101206Z
LOCATION:A distància. Meet
URL:https://eeabb.upc.edu/ca/esdeveniments/febrer-maig-20/sessio-comissio-
 permanent-esab-1
END:VEVENT
BEGIN:VTIMEZONE
TZID:Europe/Madrid
X-LIC-LOCATION:Europe/Madrid
BEGIN:DAYLIGHT
DTSTART:20200329T030000
TZNAME:CEST
TZOFFSETFROM:+0100
TZOFFSETTO:+0200
END:DAYLIGHT
END:VTIMEZONE
END:VCALENDAR
