BEGIN:VCALENDAR
VERSION:2.0
PRODID:-//Plone.org//NONSGML plone.app.event//EN
X-WR-TIMEZONE:Europe/Madrid
BEGIN:VEVENT
SUMMARY:Matrícula online Graus
DTSTART;VALUE=DATE:20200206
DTEND;VALUE=DATE:20200207
DTSTAMP:20260420T192625Z
UID:6835b115dba94cfaaf428268fe6d442b@esab.upc.edu
CREATED:20200120T192545Z
LAST-MODIFIED:20200120T192630Z
URL:https://eeabb.upc.edu/ca/esdeveniments/febrer-maig-20/matricula-online
 -graus
END:VEVENT
END:VCALENDAR
