BEGIN:VCALENDAR
VERSION:2.0
PRODID:-//Plone.org//NONSGML plone.app.event//EN
X-WR-TIMEZONE:Europe/Madrid
BEGIN:VEVENT
SUMMARY:Junta ESAB Extraordinària
DTSTART;TZID=Europe/Madrid:20200224T150000
DTEND;TZID=Europe/Madrid:20200224T170000
DTSTAMP:20260421T010216Z
UID:43c747b4d1284da4842482603ddb3ff6@esab.upc.edu
CREATED:20200205T125213Z
LAST-MODIFIED:20200205T125223Z
LOCATION:Sal Graus ESAB
URL:https://eeabb.upc.edu/ca/esdeveniments/febrer-maig-20/junta-esab-extra
 ordinaria
END:VEVENT
BEGIN:VTIMEZONE
TZID:Europe/Madrid
X-LIC-LOCATION:Europe/Madrid
BEGIN:STANDARD
DTSTART:20191027T020000
TZNAME:CET
TZOFFSETFROM:+0200
TZOFFSETTO:+0100
END:STANDARD
END:VTIMEZONE
END:VCALENDAR
