BEGIN:VCALENDAR
VERSION:2.0
PRODID:-//Plone.org//NONSGML plone.app.event//EN
X-WR-TIMEZONE:Europe/Madrid
BEGIN:VEVENT
SUMMARY:Forum Bioenginy (POSPOSAT)
DTSTART;VALUE=DATE:20200429
DTEND;VALUE=DATE:20200430
DTSTAMP:20260421T022029Z
UID:739dc62a60c2451287489a38db41eb23@esab.upc.edu
CREATED:20200226T125954Z
LAST-MODIFIED:20200318T135341Z
URL:https://eeabb.upc.edu/ca/esdeveniments/febrer-maig-20/forum-bioenginy
END:VEVENT
END:VCALENDAR
