BEGIN:VCALENDAR
VERSION:2.0
PRODID:-//Plone.org//NONSGML plone.app.event//EN
X-WR-TIMEZONE:Europe/Madrid
BEGIN:VEVENT
SUMMARY:Període exàmens reavaluació Q2
DTSTART;VALUE=DATE:20190621
DTEND;VALUE=DATE:20190629
DTSTAMP:20260420T192630Z
UID:4a1b3b095892422687db0670d63432ab@esab.upc.edu
CREATED:20190404T095414Z
LAST-MODIFIED:20190517T101440Z
URL:https://eeabb.upc.edu/ca/esdeveniments/febrer-juny-2019/periode-examen
 s-reavaluacio-q2
END:VEVENT
END:VCALENDAR
