BEGIN:VCALENDAR
VERSION:2.0
PRODID:-//Plone.org//NONSGML plone.app.event//EN
X-WR-TIMEZONE:Europe/Madrid
BEGIN:VEVENT
SUMMARY:Sessió Junta de l'ESAB
DTSTART;TZID=Europe/Madrid:20170210T120000
DTEND;TZID=Europe/Madrid:20170210T140000
DTSTAMP:20260421T000302Z
UID:33dff446ad81439d9c6d81b2a0f86853@esab.upc.edu
CREATED:20170126T110551Z
LAST-MODIFIED:20170126T154733Z
LOCATION:Sala Graus ESAB
URL:https://eeabb.upc.edu/ca/esdeveniments/feb-17-abril-17/sessio-junta-de
 -lesab
END:VEVENT
BEGIN:VTIMEZONE
TZID:Europe/Madrid
X-LIC-LOCATION:Europe/Madrid
BEGIN:STANDARD
DTSTART:20161030T020000
TZNAME:CET
TZOFFSETFROM:+0200
TZOFFSETTO:+0100
END:STANDARD
END:VTIMEZONE
END:VCALENDAR
