BEGIN:VCALENDAR
VERSION:2.0
PRODID:-//Plone.org//NONSGML plone.app.event//EN
X-WR-TIMEZONE:Europe/Madrid
BEGIN:VEVENT
SUMMARY:Presentació de les Beques Balsells
DTSTART;TZID=Europe/Madrid:20170329T113000
DTEND;TZID=Europe/Madrid:20170329T123000
DTSTAMP:20260421T003646Z
UID:075e1321928d46c1bd6c9008130f6fa9@esab.upc.edu
CREATED:20170327T101239Z
LAST-MODIFIED:20170327T101252Z
LOCATION:Sala Graus ESAB
URL:https://eeabb.upc.edu/ca/esdeveniments/feb-17-abril-17/presentacio-de-
 les-beques-balsells
END:VEVENT
BEGIN:VTIMEZONE
TZID:Europe/Madrid
X-LIC-LOCATION:Europe/Madrid
BEGIN:DAYLIGHT
DTSTART:20170326T030000
TZNAME:CEST
TZOFFSETFROM:+0100
TZOFFSETTO:+0200
END:DAYLIGHT
END:VTIMEZONE
END:VCALENDAR
