BEGIN:VCALENDAR
VERSION:2.0
PRODID:-//Plone.org//NONSGML plone.app.event//EN
X-WR-TIMEZONE:Europe/Madrid
BEGIN:VEVENT
SUMMARY:Acte Graduació Promoció 2019 Graus ESAB
DTSTART;TZID=Europe/Madrid:20191129T183000
DTSTAMP:20260421T014927Z
UID:5b4e69baa8004017b059c88a6afe1c2d@esab.upc.edu
CREATED:20191028T130611Z
DESCRIPTION:En el curs de l'acte es farà Lliurament del Premi Fitó\, Pre
 mi CETAFC-DB i dels millors expedients de Graus
LAST-MODIFIED:20191127T155731Z
LOCATION:Sala Polivalent ESAB
URL:https://eeabb.upc.edu/ca/esdeveniments/acte-graduacio-promocio-2019-gr
 aus-esab
END:VEVENT
BEGIN:VTIMEZONE
TZID:Europe/Madrid
X-LIC-LOCATION:Europe/Madrid
BEGIN:STANDARD
DTSTART:20191027T020000
TZNAME:CET
TZOFFSETFROM:+0200
TZOFFSETTO:+0100
END:STANDARD
END:VTIMEZONE
END:VCALENDAR
